BEGIN:VCALENDAR
VERSION:2.0
PRODID:-//pretix//pretix.eu//
BEGIN:VEVENT
UID:pretix-MainMatsuri-2025-0@tickets.main-matsuri.com
DTSTART;VALUE=DATE:20250815
DTEND;VALUE=DATE:20250818
DESCRIPTION:Tickets: https://tickets.main-matsuri.com/2025/\nVeranstalter: 
 Main Matsuri Event GmbH
DTSTAMP:20260421T091820Z
LOCATION:Büsingpark\, (Berliner Straße\, Ecke Kaiserstraße)\, 63065 Offe
 nbach am Main\, Deutschland
SUMMARY:Main Matsuri 2025
END:VEVENT
END:VCALENDAR
